BEGIN:VCALENDAR
VERSION:2.0
PRODID:-//hacksw/handcal//NONSGML v1.0//EN
BEGIN:VEVENT
SUMMARY:U18M-B
UID:33312327-c7d2-4219-8422-c76e431b8ca6
DTSTART:20260411T153000Z
DTEND:20260411T220000Z
LOCATION:Localisation   
CATEGORIES:Sportif
STATUS:
URL;VALUE=URI:https://www.vsfbasket.com/evenements/2026/04/11/u18m-b-2441564
END:VEVENT
END:VCALENDAR
